BEGIN:VCALENDAR
VERSION:2.0
PRODID:-//Tukios.com/
BEGIN:VEVENT
UID:e48299e5-2226-4368-9aeb-3a747d0a8f0c@www.yeagerfuneralhome.com
DTSTAMP:20260423T201615Z
DTSTART:20260503T160000Z
DTEND:20260503T180000Z
SUMMARY:Memorial Gathering
DESCRIPTION:
URL:https://www.yeagerfuneralhome.com/obituaries/shirley-fulford
LOCATION:Yeager Funeral Home 1589 Lincoln Way S  Ligonier IN 46767
GEO:41.4482017;-85.5852766
END:VEVENT
END:VCALENDAR