BEGIN:VCALENDAR
VERSION:2.0
PRODID:-//Tukios.com/
BEGIN:VEVENT
UID:02415aa9-7b22-47ad-b014-8ba2301b63ca@www.yeagerfuneralhome.com
DTSTAMP:20260420T185637Z
DTSTART:20260424T170000Z
DTEND:20260424T180000Z
SUMMARY:Calling
DESCRIPTION:
URL:https://www.yeagerfuneralhome.com/obituaries/nicolas-contreras-briones
LOCATION:Saint Patrick Catholic Church 300 Ravine Park Dr  Ligonier IN 
	46767
GEO:41.4624866;-85.59299
END:VEVENT
END:VCALENDAR