BEGIN:VCALENDAR
VERSION:2.0
PRODID:-//Tukios.com/
BEGIN:VEVENT
UID:cc57c050-d9d7-4da5-80cb-01345fdc82ec@www.yeagerfuneralhome.com
DTSTAMP:20260420T190052Z
DTSTART:20260423T200000Z
DTEND:20260424T000000Z
SUMMARY:Calling
DESCRIPTION:
URL:https://www.yeagerfuneralhome.com/obituaries/nicolas-contreras-briones
LOCATION: 1589 Lincoln Way S  Ligonier IN 46767
GEO:41.4482017;-85.5852766
END:VEVENT
END:VCALENDAR