BEGIN:VCALENDAR
VERSION:2.0
PRODID:-//Tukios.com/
BEGIN:VEVENT
UID:00a74b7e-1e79-4d95-854a-63c7ffd9eda1@www.yeagerfuneralhome.com
DTSTAMP:20260420T190052Z
DTSTART:20260424T180000Z
DTEND:20260424T190000Z
SUMMARY:Funeral Mass
DESCRIPTION:
URL:https://www.yeagerfuneralhome.com/obituaries/nicolas-contreras-briones
LOCATION:Saint Patrick Catholic Church 300 Ravine Park Dr  Ligonier IN 
	46767
GEO:41.4624866;-85.59299
END:VEVENT
END:VCALENDAR