BEGIN:VCALENDAR
VERSION:2.0
PRODID:-//Tukios.com/
BEGIN:VEVENT
UID:d8ab9061-e444-4063-9aca-a7069e4045a9@www.yeagerfuneralhome.com
DTSTAMP:20260423T163617Z
DTSTART:20260427T140000Z
DTEND:20260427T150000Z
SUMMARY:Calling
DESCRIPTION:
URL:https://www.yeagerfuneralhome.com/obituaries/joanne-ulrey
LOCATION:St Martin De Porres Parish 6941 E Waco Dr  Syracuse IN 46567
GEO:41.3970003;-85.7142843
END:VEVENT
END:VCALENDAR