BEGIN:VCALENDAR
VERSION:2.0
PRODID:-//Tukios.com/
BEGIN:VEVENT
UID:1354ffe4-03c2-4337-8685-8b34f839cb78@www.yeagerfuneralhome.com
DTSTAMP:20260423T163617Z
DTSTART:20260427T150000Z
DTEND:20260427T160000Z
SUMMARY:Mass
DESCRIPTION:
URL:https://www.yeagerfuneralhome.com/obituaries/joanne-ulrey
LOCATION:St Martin De Porres Parish 6941 E Waco Dr  Syracuse IN 46567
GEO:41.3970003;-85.7142843
END:VEVENT
END:VCALENDAR