BEGIN:VCALENDAR
VERSION:2.0
PRODID:-//Tukios.com/
BEGIN:VEVENT
UID:2aa4ce0f-c5c8-4078-ab11-3715354996e4@www.yeagerfuneralhome.com
DTSTAMP:20260423T163311Z
DTSTART:20260426T170000Z
DTEND:20260426T210000Z
SUMMARY:Calling
DESCRIPTION:
URL:https://www.yeagerfuneralhome.com/obituaries/joanne-ulrey
LOCATION: 1589 Lincoln Way S  Ligonier IN 46767
GEO:41.4482017;-85.5852766
END:VEVENT
END:VCALENDAR